Package: parglms Version: 1.39.0 Command: /Library/Frameworks/R.framework/Resources/bin/R CMD INSTALL parglms StartedAt: 2025-02-09 15:13:10 -0500 (Sun, 09 Feb 2025) EndedAt: 2025-02-09 15:13:13 -0500 (Sun, 09 Feb 2025) EllapsedTime: 2.5 seconds RetCode: 0 Status: OK