Package: parglms Version: 1.39.0 Command: /home/biocbuild/R/R/bin/R CMD build --keep-empty-dirs --no-resave-data parglms StartedAt: 2025-01-29 01:11:07 -0000 (Wed, 29 Jan 2025) EndedAt: 2025-01-29 01:11:26 -0000 (Wed, 29 Jan 2025) EllapsedTime: 19.0 seconds RetCode: 0 Status: OK PackageFile: parglms_1.39.0.tar.gz PackageFileSize: 258.6 KiB