Package: parglms Version: 1.39.0 Command: /home/biocbuild/R/R/bin/R CMD check --install=check:parglms.install-out.txt --library=/home/biocbuild/R/R/site-library --no-vignettes --timings parglms_1.39.0.tar.gz StartedAt: 2025-01-28 13:44:50 -0000 (Tue, 28 Jan 2025) EndedAt: 2025-01-28 13:45:37 -0000 (Tue, 28 Jan 2025) EllapsedTime: 47.1 seconds RetCode: 0 Status: OK CheckDir: parglms.Rcheck Warnings: 0