Package: parglms Version: 1.39.0 Command: rm -rf parglms.buildbin-libdir && mkdir parglms.buildbin-libdir && /Users/biocbuild/BBS/utils/build-universal.sh parglms_1.39.0.tar.gz /Library/Frameworks/R.framework/Resources/bin/R parglms.buildbin-libdir StartedAt: 2025-02-10 01:07:40 -0500 (Mon, 10 Feb 2025) EndedAt: 2025-02-10 01:07:49 -0500 (Mon, 10 Feb 2025) EllapsedTime: 9.3 seconds RetCode: 0 Status: OK PackageFile: parglms_1.39.0.tgz PackageFileSize: 295.5 KiB