Package: parglms Version: 1.39.0 Command: /Library/Frameworks/R.framework/Resources/bin/R CMD build --keep-empty-dirs --no-resave-data parglms StartedAt: 2025-02-03 17:50:16 -0500 (Mon, 03 Feb 2025) EndedAt: 2025-02-03 17:51:21 -0500 (Mon, 03 Feb 2025) EllapsedTime: 65.3 seconds RetCode: 0 Status: OK PackageFile: parglms_1.39.0.tar.gz PackageFileSize: 273.8 KiB