Package: parglms Version: 1.39.0 Command: /Library/Frameworks/R.framework/Resources/bin/R CMD check --install=check:parglms.install-out.txt --library=/Library/Frameworks/R.framework/Resources/library --no-vignettes --timings parglms_1.39.0.tar.gz StartedAt: 2025-02-09 22:34:13 -0500 (Sun, 09 Feb 2025) EndedAt: 2025-02-09 22:35:18 -0500 (Sun, 09 Feb 2025) EllapsedTime: 65.6 seconds RetCode: 0 Status: OK CheckDir: parglms.Rcheck Warnings: 0