Package: parglms Version: 1.39.0 Command: /home/biocbuild/bbs-3.21-bioc/R/bin/R CMD build --keep-empty-dirs --no-resave-data parglms StartedAt: 2025-02-09 18:35:23 -0500 (Sun, 09 Feb 2025) EndedAt: 2025-02-09 18:35:55 -0500 (Sun, 09 Feb 2025) EllapsedTime: 32.1 seconds RetCode: 0 Status: OK PackageFile: parglms_1.39.0.tar.gz PackageFileSize: 273.1 KiB