Package: parglms Version: 1.39.0 Command: /home/biocbuild/bbs-3.21-bioc/R/bin/R CMD check --install=check:parglms.install-out.txt --library=/home/biocbuild/bbs-3.21-bioc/R/site-library --timings parglms_1.39.0.tar.gz StartedAt: 2025-02-04 01:16:21 -0500 (Tue, 04 Feb 2025) EndedAt: 2025-02-04 01:17:44 -0500 (Tue, 04 Feb 2025) EllapsedTime: 83.2 seconds RetCode: 0 Status: OK CheckDir: parglms.Rcheck Warnings: 0