Package: parglms Version: 1.39.0 Command: /home/biocbuild/bbs-3.21-bioc/R/bin/R CMD INSTALL parglms StartedAt: 2025-02-09 15:14:55 -0500 (Sun, 09 Feb 2025) EndedAt: 2025-02-09 15:14:59 -0500 (Sun, 09 Feb 2025) EllapsedTime: 4.2 seconds RetCode: 0 Status: OK