Package: parglms Version: 1.39.0 Command: rm -rf parglms.buildbin-libdir && mkdir parglms.buildbin-libdir && E:\biocbuild\bbs-3.21-bioc\R\bin\R.exe CMD INSTALL --build --library=parglms.buildbin-libdir parglms_1.39.0.tar.gz StartedAt: 2025-02-10 08:21:08 -0500 (Mon, 10 Feb 2025) EndedAt: 2025-02-10 08:21:18 -0500 (Mon, 10 Feb 2025) EllapsedTime: 9.9 seconds RetCode: 0 Status: OK PackageFile: parglms_1.39.0.zip PackageFileSize: 301.7 KiB