Package: parglms Version: 1.39.0 Command: E:\biocbuild\bbs-3.21-bioc\R\bin\R.exe CMD check --no-multiarch --install=check:parglms.install-out.txt --library=E:\biocbuild\bbs-3.21-bioc\R\library --no-vignettes --timings parglms_1.39.0.tar.gz StartedAt: 2025-02-04 04:23:28 -0500 (Tue, 04 Feb 2025) EndedAt: 2025-02-04 04:24:35 -0500 (Tue, 04 Feb 2025) EllapsedTime: 67.8 seconds RetCode: 0 Status: OK CheckDir: parglms.Rcheck Warnings: 0