Package: parglms Version: 1.39.0 Command: E:\biocbuild\bbs-3.21-bioc\R\bin\R.exe CMD INSTALL parglms StartedAt: 2025-02-09 15:34:43 -0500 (Sun, 09 Feb 2025) EndedAt: 2025-02-09 15:34:58 -0500 (Sun, 09 Feb 2025) EllapsedTime: 14.4 seconds RetCode: 0 Status: OK