Package: pathRender Version: 1.75.0 Command: /home/biocbuild/R/R/bin/R CMD build --keep-empty-dirs --no-resave-data pathRender StartedAt: 2025-01-29 01:11:40 -0000 (Wed, 29 Jan 2025) EndedAt: 2025-01-29 01:12:12 -0000 (Wed, 29 Jan 2025) EllapsedTime: 32.0 seconds RetCode: 0 Status: OK PackageFile: pathRender_1.75.0.tar.gz PackageFileSize: 292.6 KiB