Package: pathRender Version: 1.75.0 Command: /home/biocbuild/R/R/bin/R CMD INSTALL pathRender StartedAt: 2025-01-29 19:44:38 -0000 (Wed, 29 Jan 2025) EndedAt: 2025-01-29 19:44:56 -0000 (Wed, 29 Jan 2025) EllapsedTime: 18.3 seconds RetCode: 0 Status: OK