Package: pathRender Version: 1.75.0 Command: /home/biocbuild/bbs-3.21-bioc/R/bin/R CMD build --keep-empty-dirs --no-resave-data pathRender StartedAt: 2025-02-03 18:45:03 -0500 (Mon, 03 Feb 2025) EndedAt: 2025-02-03 18:45:29 -0500 (Mon, 03 Feb 2025) EllapsedTime: 26.0 seconds RetCode: 0 Status: OK PackageFile: pathRender_1.75.0.tar.gz PackageFileSize: 301 KiB