Package: pathRender Version: 1.75.0 Command: rm -rf pathRender.buildbin-libdir && mkdir pathRender.buildbin-libdir && E:\biocbuild\bbs-3.21-bioc\R\bin\R.exe CMD INSTALL --build --library=pathRender.buildbin-libdir pathRender_1.75.0.tar.gz StartedAt: 2025-02-05 08:33:29 -0500 (Wed, 05 Feb 2025) EndedAt: 2025-02-05 08:33:53 -0500 (Wed, 05 Feb 2025) EllapsedTime: 24.5 seconds RetCode: 0 Status: OK PackageFile: pathRender_1.75.0.zip PackageFileSize: 207.4 KiB