Package: pathRender Version: 1.75.0 Command: chmod a+r pathRender -R && E:\biocbuild\bbs-3.21-bioc\R\bin\R.exe CMD build --keep-empty-dirs --no-resave-data pathRender StartedAt: 2025-02-04 20:40:01 -0500 (Tue, 04 Feb 2025) EndedAt: 2025-02-04 20:40:34 -0500 (Tue, 04 Feb 2025) EllapsedTime: 32.8 seconds RetCode: 0 Status: OK PackageFile: pathRender_1.75.0.tar.gz PackageFileSize: 148.9 KiB