Package: pathRender Version: 1.75.0 Command: E:\biocbuild\bbs-3.21-bioc\R\bin\R.exe CMD check --no-multiarch --install=check:pathRender.install-out.txt --library=E:\biocbuild\bbs-3.21-bioc\R\library --no-vignettes --timings pathRender_1.75.0.tar.gz StartedAt: 2025-02-05 04:22:56 -0500 (Wed, 05 Feb 2025) EndedAt: 2025-02-05 04:24:55 -0500 (Wed, 05 Feb 2025) EllapsedTime: 119.2 seconds RetCode: 0 Status: OK CheckDir: pathRender.Rcheck Warnings: 0