Package: pathRender Version: 1.75.0 Command: E:\biocbuild\bbs-3.21-bioc\R\bin\R.exe CMD INSTALL pathRender StartedAt: 2025-02-04 15:43:51 -0500 (Tue, 04 Feb 2025) EndedAt: 2025-02-04 15:44:13 -0500 (Tue, 04 Feb 2025) EllapsedTime: 21.3 seconds RetCode: 0 Status: OK