Package: pathifier Version: 1.45.0 Command: E:\biocbuild\bbs-3.21-bioc\R\bin\R.exe CMD INSTALL pathifier StartedAt: 2025-02-09 15:22:39 -0500 (Sun, 09 Feb 2025) EndedAt: 2025-02-09 15:22:48 -0500 (Sun, 09 Feb 2025) EllapsedTime: 9.3 seconds RetCode: 0 Status: OK