Package: pathview Version: 1.47.0 Command: rm -rf pathview.buildbin-libdir && mkdir pathview.buildbin-libdir && /Users/biocbuild/BBS/utils/build-universal.sh pathview_1.47.0.tar.gz /Library/Frameworks/R.framework/Resources/bin/R pathview.buildbin-libdir StartedAt: 2025-02-09 22:24:50 -0500 (Sun, 09 Feb 2025) EndedAt: 2025-02-09 22:24:58 -0500 (Sun, 09 Feb 2025) EllapsedTime: 8.2 seconds RetCode: 0 Status: OK PackageFile: pathview_1.47.0.tgz PackageFileSize: 2.699 MiB