Package: pathview Version: 1.47.0 Command: /Library/Frameworks/R.framework/Resources/bin/R CMD check --install=check:pathview.install-out.txt --library=/Library/Frameworks/R.framework/Resources/library --no-vignettes --timings pathview_1.47.0.tar.gz StartedAt: 2025-02-09 20:35:45 -0500 (Sun, 09 Feb 2025) EndedAt: 2025-02-09 20:37:01 -0500 (Sun, 09 Feb 2025) EllapsedTime: 75.9 seconds RetCode: 0 Status: WARNINGS CheckDir: pathview.Rcheck Warnings: 1