Package: pathview Version: 1.47.0 Command: /Library/Frameworks/R.framework/Resources/bin/R CMD INSTALL pathview StartedAt: 2025-02-09 15:10:05 -0500 (Sun, 09 Feb 2025) EndedAt: 2025-02-09 15:10:14 -0500 (Sun, 09 Feb 2025) EllapsedTime: 9.0 seconds RetCode: 0 Status: OK