Package: pathview Version: 1.47.0 Command: /home/biocbuild/R/R/bin/R CMD INSTALL pathview StartedAt: 2025-01-29 19:53:27 -0000 (Wed, 29 Jan 2025) EndedAt: 2025-01-29 19:53:52 -0000 (Wed, 29 Jan 2025) EllapsedTime: 25.7 seconds RetCode: 0 Status: OK