Package: pathview Version: 1.47.0 Command: rm -rf pathview.buildbin-libdir && mkdir pathview.buildbin-libdir && /Users/biocbuild/BBS/utils/build-universal.sh pathview_1.47.0.tar.gz /Library/Frameworks/R.framework/Resources/bin/R pathview.buildbin-libdir StartedAt: 2025-02-05 00:53:50 -0500 (Wed, 05 Feb 2025) EndedAt: 2025-02-05 00:54:18 -0500 (Wed, 05 Feb 2025) EllapsedTime: 28.0 seconds RetCode: 0 Status: OK PackageFile: pathview_1.47.0.tgz PackageFileSize: 2.698 MiB