Package: pathview Version: 1.47.0 Command: /Library/Frameworks/R.framework/Resources/bin/R CMD build --keep-empty-dirs --no-resave-data pathview StartedAt: 2025-02-04 17:47:24 -0500 (Tue, 04 Feb 2025) EndedAt: 2025-02-04 17:49:42 -0500 (Tue, 04 Feb 2025) EllapsedTime: 137.7 seconds RetCode: 0 Status: OK PackageFile: pathview_1.47.0.tar.gz PackageFileSize: 2.398 MiB