Package: pathview Version: 1.47.0 Command: /Library/Frameworks/R.framework/Resources/bin/R CMD INSTALL pathview StartedAt: 2025-02-04 15:18:09 -0500 (Tue, 04 Feb 2025) EndedAt: 2025-02-04 15:18:32 -0500 (Tue, 04 Feb 2025) EllapsedTime: 22.9 seconds RetCode: 0 Status: OK