Package: pathview Version: 1.47.0 Command: /home/biocbuild/bbs-3.21-bioc/R/bin/R CMD build --keep-empty-dirs --no-resave-data pathview StartedAt: 2025-02-09 18:36:27 -0500 (Sun, 09 Feb 2025) EndedAt: 2025-02-09 18:37:56 -0500 (Sun, 09 Feb 2025) EllapsedTime: 89.1 seconds RetCode: 0 Status: OK PackageFile: pathview_1.47.0.tar.gz PackageFileSize: 2.534 MiB