Package: pathview Version: 1.47.0 Command: /home/biocbuild/bbs-3.21-bioc/R/bin/R CMD check --install=check:pathview.install-out.txt --library=/home/biocbuild/bbs-3.21-bioc/R/site-library --timings pathview_1.47.0.tar.gz StartedAt: 2025-02-10 01:11:24 -0500 (Mon, 10 Feb 2025) EndedAt: 2025-02-10 01:15:23 -0500 (Mon, 10 Feb 2025) EllapsedTime: 238.4 seconds RetCode: 0 Status: WARNINGS CheckDir: pathview.Rcheck Warnings: 1