Package: pathview Version: 1.47.0 Command: rm -rf pathview.buildbin-libdir && mkdir pathview.buildbin-libdir && E:\biocbuild\bbs-3.21-bioc\R\bin\R.exe CMD INSTALL --build --library=pathview.buildbin-libdir pathview_1.47.0.tar.gz StartedAt: 2025-02-05 08:33:30 -0500 (Wed, 05 Feb 2025) EndedAt: 2025-02-05 08:34:04 -0500 (Wed, 05 Feb 2025) EllapsedTime: 33.9 seconds RetCode: 0 Status: OK PackageFile: pathview_1.47.0.zip PackageFileSize: 2.787 MiB