Package: pathview Version: 1.47.0 Command: chmod a+r pathview -R && E:\biocbuild\bbs-3.21-bioc\R\bin\R.exe CMD build --keep-empty-dirs --no-resave-data pathview StartedAt: 2025-02-09 20:37:40 -0500 (Sun, 09 Feb 2025) EndedAt: 2025-02-09 20:39:37 -0500 (Sun, 09 Feb 2025) EllapsedTime: 117.7 seconds RetCode: 0 Status: OK PackageFile: pathview_1.47.0.tar.gz PackageFileSize: 2.488 MiB