Package: pathview Version: 1.47.0 Command: E:\biocbuild\bbs-3.21-bioc\R\bin\R.exe CMD check --no-multiarch --install=check:pathview.install-out.txt --library=E:\biocbuild\bbs-3.21-bioc\R\library --no-vignettes --timings pathview_1.47.0.tar.gz StartedAt: 2025-02-10 03:57:15 -0500 (Mon, 10 Feb 2025) EndedAt: 2025-02-10 04:00:26 -0500 (Mon, 10 Feb 2025) EllapsedTime: 190.6 seconds RetCode: 0 Status: WARNINGS CheckDir: pathview.Rcheck Warnings: 1