Package: pathwayPCA Version: 1.23.0 Command: rm -rf pathwayPCA.buildbin-libdir && mkdir pathwayPCA.buildbin-libdir && /Users/biocbuild/BBS/utils/build-universal.sh pathwayPCA_1.23.0.tar.gz /Library/Frameworks/R.framework/Resources/bin/R pathwayPCA.buildbin-libdir StartedAt: 2025-02-09 22:24:50 -0500 (Sun, 09 Feb 2025) EndedAt: 2025-02-09 22:24:54 -0500 (Sun, 09 Feb 2025) EllapsedTime: 4.1 seconds RetCode: 0 Status: OK PackageFile: pathwayPCA_1.23.0.tgz PackageFileSize: 3.441 MiB