Package: pathwayPCA Version: 1.23.0 Command: /Library/Frameworks/R.framework/Resources/bin/R CMD build --keep-empty-dirs --no-resave-data pathwayPCA StartedAt: 2025-02-09 17:13:29 -0500 (Sun, 09 Feb 2025) EndedAt: 2025-02-09 17:14:36 -0500 (Sun, 09 Feb 2025) EllapsedTime: 66.8 seconds RetCode: 0 Status: OK PackageFile: pathwayPCA_1.23.0.tar.gz PackageFileSize: 3.477 MiB