Package: pathwayPCA Version: 1.23.0 Command: /home/biocbuild/R/R/bin/R CMD build --keep-empty-dirs --no-resave-data pathwayPCA StartedAt: 2025-01-29 01:12:12 -0000 (Wed, 29 Jan 2025) EndedAt: 2025-01-29 01:15:35 -0000 (Wed, 29 Jan 2025) EllapsedTime: 203.2 seconds RetCode: 0 Status: OK PackageFile: pathwayPCA_1.23.0.tar.gz PackageFileSize: 2.918 MiB