Package: pathwayPCA Version: 1.23.0 Command: chmod a+r pathwayPCA -R && E:\biocbuild\bbs-3.21-bioc\R\bin\R.exe CMD build --keep-empty-dirs --no-resave-data pathwayPCA StartedAt: 2025-02-12 20:43:49 -0500 (Wed, 12 Feb 2025) EndedAt: 2025-02-12 20:48:36 -0500 (Wed, 12 Feb 2025) EllapsedTime: 286.1 seconds RetCode: 0 Status: OK PackageFile: pathwayPCA_1.23.0.tar.gz PackageFileSize: 2.851 MiB