Package: pathwayPCA Version: 1.23.0 Command: E:\biocbuild\bbs-3.21-bioc\R\bin\R.exe CMD check --no-multiarch --install=check:pathwayPCA.install-out.txt --library=E:\biocbuild\bbs-3.21-bioc\R\library --no-vignettes --timings pathwayPCA_1.23.0.tar.gz StartedAt: 2025-02-10 03:57:18 -0500 (Mon, 10 Feb 2025) EndedAt: 2025-02-10 04:00:14 -0500 (Mon, 10 Feb 2025) EllapsedTime: 176.8 seconds RetCode: 0 Status: OK CheckDir: pathwayPCA.Rcheck Warnings: 0