Package: pcaMethods Version: 1.99.0 Command: /Library/Frameworks/R.framework/Resources/bin/R CMD build --keep-empty-dirs --no-resave-data pcaMethods StartedAt: 2025-02-09 17:13:33 -0500 (Sun, 09 Feb 2025) EndedAt: 2025-02-09 17:14:25 -0500 (Sun, 09 Feb 2025) EllapsedTime: 52.6 seconds RetCode: 0 Status: OK PackageFile: pcaMethods_1.99.0.tar.gz PackageFileSize: 1017 KiB