Package: pcaMethods Version: 1.99.0 Command: /Library/Frameworks/R.framework/Resources/bin/R CMD check --install=check:pcaMethods.install-out.txt --library=/Library/Frameworks/R.framework/Resources/library --no-vignettes --timings pcaMethods_1.99.0.tar.gz StartedAt: 2025-02-03 22:21:23 -0500 (Mon, 03 Feb 2025) EndedAt: 2025-02-03 22:23:52 -0500 (Mon, 03 Feb 2025) EllapsedTime: 149.5 seconds RetCode: 0 Status: OK CheckDir: pcaMethods.Rcheck Warnings: 0