Package: pcaMethods Version: 1.99.0 Command: rm -rf pcaMethods.buildbin-libdir && mkdir pcaMethods.buildbin-libdir && E:\biocbuild\bbs-3.21-bioc\R\bin\R.exe CMD INSTALL --build --library=pcaMethods.buildbin-libdir pcaMethods_1.99.0.tar.gz StartedAt: 2025-02-04 08:34:33 -0500 (Tue, 04 Feb 2025) EndedAt: 2025-02-04 08:35:59 -0500 (Tue, 04 Feb 2025) EllapsedTime: 85.6 seconds RetCode: 0 Status: OK PackageFile: pcaMethods_1.99.0.zip PackageFileSize: 1.339 MiB