Package: pcaMethods Version: 1.99.0 Command: chmod a+r pcaMethods -R && E:\biocbuild\bbs-3.21-bioc\R\bin\R.exe CMD build --keep-empty-dirs --no-resave-data pcaMethods StartedAt: 2025-02-09 20:38:38 -0500 (Sun, 09 Feb 2025) EndedAt: 2025-02-09 20:41:17 -0500 (Sun, 09 Feb 2025) EllapsedTime: 158.3 seconds RetCode: 0 Status: OK PackageFile: pcaMethods_1.99.0.tar.gz PackageFileSize: 605 KiB