Package: pcaMethods Version: 1.99.0 Command: E:\biocbuild\bbs-3.21-bioc\R\bin\R.exe CMD check --no-multiarch --install=check:pcaMethods.install-out.txt --library=E:\biocbuild\bbs-3.21-bioc\R\library --no-vignettes --timings pcaMethods_1.99.0.tar.gz StartedAt: 2025-02-04 04:25:07 -0500 (Tue, 04 Feb 2025) EndedAt: 2025-02-04 04:28:08 -0500 (Tue, 04 Feb 2025) EllapsedTime: 180.8 seconds RetCode: 0 Status: OK CheckDir: pcaMethods.Rcheck Warnings: 0