Package: pcaMethods Version: 1.99.0 Command: E:\biocbuild\bbs-3.21-bioc\R\bin\R.exe CMD INSTALL pcaMethods StartedAt: 2025-02-09 15:25:20 -0500 (Sun, 09 Feb 2025) EndedAt: 2025-02-09 15:26:40 -0500 (Sun, 09 Feb 2025) EllapsedTime: 79.7 seconds RetCode: 0 Status: OK