Package: pengls Version: 1.13.0 Command: /home/biocbuild/R/R/bin/R CMD build --keep-empty-dirs --no-resave-data pengls StartedAt: 2025-01-29 01:14:41 -0000 (Wed, 29 Jan 2025) EndedAt: 2025-01-29 01:17:15 -0000 (Wed, 29 Jan 2025) EllapsedTime: 154.1 seconds RetCode: 0 Status: OK PackageFile: pengls_1.13.0.tar.gz PackageFileSize: 37.8 KiB