Package: pengls Version: 1.13.0 Command: /home/biocbuild/R/R/bin/R CMD INSTALL pengls StartedAt: 2025-01-29 20:17:29 -0000 (Wed, 29 Jan 2025) EndedAt: 2025-01-29 20:17:36 -0000 (Wed, 29 Jan 2025) EllapsedTime: 7.3 seconds RetCode: 0 Status: OK