Package: pengls Version: 1.13.0 Command: rm -rf pengls.buildbin-libdir && mkdir pengls.buildbin-libdir && /Users/biocbuild/BBS/utils/build-universal.sh pengls_1.13.0.tar.gz /Library/Frameworks/R.framework/Resources/bin/R pengls.buildbin-libdir StartedAt: 2025-02-04 00:48:14 -0500 (Tue, 04 Feb 2025) EndedAt: 2025-02-04 00:48:25 -0500 (Tue, 04 Feb 2025) EllapsedTime: 10.4 seconds RetCode: 0 Status: OK PackageFile: pengls_1.13.0.tgz PackageFileSize: 95.61 KiB