Package: pengls Version: 1.13.0 Command: /Library/Frameworks/R.framework/Resources/bin/R CMD build --keep-empty-dirs --no-resave-data pengls StartedAt: 2025-02-03 17:53:24 -0500 (Mon, 03 Feb 2025) EndedAt: 2025-02-03 17:55:48 -0500 (Mon, 03 Feb 2025) EllapsedTime: 143.8 seconds RetCode: 0 Status: OK PackageFile: pengls_1.13.0.tar.gz PackageFileSize: 61.73 KiB