Package: pengls Version: 1.13.0 Command: /Library/Frameworks/R.framework/Resources/bin/R CMD check --install=check:pengls.install-out.txt --library=/Library/Frameworks/R.framework/Resources/library --no-vignettes --timings pengls_1.13.0.tar.gz StartedAt: 2025-02-09 22:37:40 -0500 (Sun, 09 Feb 2025) EndedAt: 2025-02-09 22:50:10 -0500 (Sun, 09 Feb 2025) EllapsedTime: 750.9 seconds RetCode: 0 Status: OK CheckDir: pengls.Rcheck Warnings: 0