Package: pengls Version: 1.13.0 Command: /home/biocbuild/bbs-3.21-bioc/R/bin/R CMD check --install=check:pengls.install-out.txt --library=/home/biocbuild/bbs-3.21-bioc/R/site-library --timings pengls_1.13.0.tar.gz StartedAt: 2025-02-04 01:20:16 -0500 (Tue, 04 Feb 2025) EndedAt: 2025-02-04 01:29:30 -0500 (Tue, 04 Feb 2025) EllapsedTime: 553.8 seconds RetCode: 0 Status: OK CheckDir: pengls.Rcheck Warnings: 0