Package: pengls Version: 1.13.0 Command: rm -rf pengls.buildbin-libdir && mkdir pengls.buildbin-libdir && E:\biocbuild\bbs-3.21-bioc\R\bin\R.exe CMD INSTALL --build --library=pengls.buildbin-libdir pengls_1.13.0.tar.gz StartedAt: 2025-02-04 08:34:57 -0500 (Tue, 04 Feb 2025) EndedAt: 2025-02-04 08:35:12 -0500 (Tue, 04 Feb 2025) EllapsedTime: 14.7 seconds RetCode: 0 Status: OK PackageFile: pengls_1.13.0.zip PackageFileSize: 62.62 KiB